BEGIN:VCALENDAR
VERSION:2.0
PRODID:-//Kickside Martial Arts - ECPv6.0.6.2//NONSGML v1.0//EN
CALSCALE:GREGORIAN
METHOD:PUBLISH
X-WR-CALNAME:Kickside Martial Arts
X-ORIGINAL-URL:https://www.kicksidema.com
X-WR-CALDESC:Events for Kickside Martial Arts
REFRESH-INTERVAL;VALUE=DURATION:PT1H
X-Robots-Tag:noindex
X-PUBLISHED-TTL:PT1H
BEGIN:VTIMEZONE
TZID:America/New_York
BEGIN:DAYLIGHT
TZOFFSETFROM:-0500
TZOFFSETTO:-0400
TZNAME:EDT
DTSTART:20150308T070000
END:DAYLIGHT
BEGIN:STANDARD
TZOFFSETFROM:-0400
TZOFFSETTO:-0500
TZNAME:EST
DTSTART:20151101T060000
END:STANDARD
BEGIN:DAYLIGHT
TZOFFSETFROM:-0500
TZOFFSETTO:-0400
TZNAME:EDT
DTSTART:20160313T070000
END:DAYLIGHT
BEGIN:STANDARD
TZOFFSETFROM:-0400
TZOFFSETTO:-0500
TZNAME:EST
DTSTART:20161106T060000
END:STANDARD
END:VTIMEZONE
BEGIN:VEVENT
DTSTART;TZID=America/New_York:20160512T184500
DTEND;TZID=America/New_York:20160512T193000
DTSTAMP:20260419T134925
CREATED:20160506T035140Z
LAST-MODIFIED:20160506T163717Z
UID:4143-1463078700-1463081400@www.kicksidema.com
SUMMARY:Sr. Red Belt 1-month Review at Montgomery
DESCRIPTION:ALL senior red belts should attend this review of belt knowledge for the upcoming June black belt testing.
URL:https://www.kicksidema.com/event/one-month-review-at-montgomery/
CATEGORIES:Home,Montgomery
END:VEVENT
BEGIN:VEVENT
DTSTART;TZID=America/New_York:20160409T180000
DTEND;TZID=America/New_York:20160409T203000
DTSTAMP:20260419T134925
CREATED:20160407T005629Z
LAST-MODIFIED:20160407T005629Z
UID:4131-1460224800-1460233800@www.kicksidema.com
SUMMARY:Star Wars: The Force Awakens Movie Night\, at Montgomery
DESCRIPTION:Come enjoy some popcorn and watch Star Wars: The Force Awakens on the big screen. \nSaturday\, April 9th\, 6:00–8:30pm \n$10 per person\nMovie is rated PG-13. Parental discretion is advised.
URL:https://www.kicksidema.com/event/star-wars-the-force-awakens-movie-night-at-montgomery/
CATEGORIES:Home,Montgomery
END:VEVENT
BEGIN:VEVENT
DTSTART;VALUE=DATE:20160325
DTEND;VALUE=DATE:20160327
DTSTAMP:20260419T134925
CREATED:20160320T005450Z
LAST-MODIFIED:20160320T005450Z
UID:4126-1458864000-1459036799@www.kicksidema.com
SUMMARY:Easter Closing 2016
DESCRIPTION:We will be closed Friday and Saturday for the Easter holiday.
URL:https://www.kicksidema.com/event/easter-closing-2016/
CATEGORIES:Hillsborough,Home,Montgomery
END:VEVENT
BEGIN:VEVENT
DTSTART;TZID=America/New_York:20160319T130000
DTEND;TZID=America/New_York:20160319T153000
DTSTAMP:20260419T134925
CREATED:20160226T000723Z
LAST-MODIFIED:20160226T001245Z
UID:4115-1458392400-1458401400@www.kicksidema.com
SUMMARY:Secondary Testing at Hillsborough -- March 19
DESCRIPTION:Secondary testing is for all eligible students\, white through sr. brown\, who were not promoted at the February primary testing. \nTesting will take place at Hillsborough location (378 South Branch Rd\, Hillsborough\, NJ) \n\n\n\nRANK TESTING\nTIME\n\n\nWhite through Sr. Yellow – at Hillsborough\n1:00 pm\n\n\nGreen through Sr. Brown – at Hillsborough\n2:00 pm\n\n\n\nNote: times are for your current rank\, not the rank for which you are testing. \nGreen Belts and Up must bring complete sparring gear to the testing.\nBrown Belts and Up must bring boards to the testing. \nClick here for the testing application. Fill out and turn it to the office.\nAll Senior Yellow Belts need to order sparring gear. Click here for that order form.
URL:https://www.kicksidema.com/event/secondary-and-collar-testing-march-19th/
CATEGORIES:Hillsborough,Home
END:VEVENT
BEGIN:VEVENT
DTSTART;TZID=America/New_York:20160319T090000
DTEND;TZID=America/New_York:20160319T094500
DTSTAMP:20260419T134925
CREATED:20160226T001147Z
LAST-MODIFIED:20160226T001147Z
UID:4117-1458378000-1458380700@www.kicksidema.com
SUMMARY:Collar Testing at Montgomery -- March 19
DESCRIPTION:Collar testing is for eligible high ranks. Please see an instructor for details. There will be no adult/teen class in Montgomery on 3/19\, as a result of this testing.
URL:https://www.kicksidema.com/event/collar-testing-at-montgomery-march-19/
CATEGORIES:Home,Montgomery
END:VEVENT
BEGIN:VEVENT
DTSTART;VALUE=DATE:20160216
DTEND;VALUE=DATE:20160217
DTSTAMP:20260419T134925
CREATED:20160127T183708Z
LAST-MODIFIED:20160130T202427Z
UID:4079-1455580800-1455667199@www.kicksidema.com
SUMMARY:Schedule Change for Montgomery
DESCRIPTION:In order to better serve our members\, we are putting into effect a schedule change for Montgomery\, effective 2/16/2016. Please click here to preview the new schedule. \n 
URL:https://www.kicksidema.com/event/schedule-change-for-montgomery/
CATEGORIES:Home,Montgomery
END:VEVENT
BEGIN:VEVENT
DTSTART;VALUE=DATE:20160215
DTEND;VALUE=DATE:20160216
DTSTAMP:20260419T134925
CREATED:20160127T184155Z
LAST-MODIFIED:20160127T184155Z
UID:4081-1455494400-1455580799@www.kicksidema.com
SUMMARY:Closed for President's Day
DESCRIPTION:There will be no classes on Monday\, 2/15/2016\, in honor of President’s Day.
URL:https://www.kicksidema.com/event/closed-for-presidents-day-3/
CATEGORIES:Hillsborough,Home,Montgomery
END:VEVENT
BEGIN:VEVENT
DTSTART;VALUE=DATE:20160208
DTEND;VALUE=DATE:20160214
DTSTAMP:20260419T134925
CREATED:20160126T221634Z
LAST-MODIFIED:20160127T183349Z
UID:4074-1454889600-1455407999@www.kicksidema.com
SUMMARY:Revised Week: February 8–13\, 2016
DESCRIPTION:Due to the number of students between ranks\, we will be following a revised schedule of classes for the week of February 8th.\nMONTGOMERY Revised Schedule: February 8–13\, 2016\nHILLSBOROUGH Revised Week: February 8–13\, 2016
URL:https://www.kicksidema.com/event/revised-week-february-8-13-2016/
CATEGORIES:Hillsborough,Home,Montgomery
END:VEVENT
BEGIN:VEVENT
DTSTART;VALUE=DATE:20160207
DTEND;VALUE=DATE:20160208
DTSTAMP:20260419T134925
CREATED:20160106T015711Z
LAST-MODIFIED:20160127T183453Z
UID:4057-1454803200-1454889599@www.kicksidema.com
SUMMARY:Primary Testing – February 2016
DESCRIPTION:Primary testing for all NJMAA schools will be held on Sunday\, February 7th at North Hunterdon High School gymnasium (1445 NJ-31\, Annandale\, NJ 08801). \nNote: Testing and rank ceremony times are for your CURRENT RANK\, not the rank you are testing to become! Students should try to arrive 15 min early for their testing. \n\n\n\nCurrent Belt Rank\nTesting Start Time\n\n\nYellow & Sr. Yellow Belt Juniors\n9:00 am\n\n\nWhite Belt Juniors &\nBeginner Rank Adults (White – Sr. Yellow Belt)\n9:30 am\n\n\nGreen & Sr. Green Belt Juniors\n10:00 am\n\n\nBlue & Sr. Blue Belt Juniors\n10:30 am\n\n\nBrown through Sr. Red Belt &\nAdvanced Rank Adults (Green – Sr. Red Belt)\n11:15 am\n\n\nAll Black Belts\n11:45 am\n\n\n\nTesting Procedures: \nClick here for the colored belt testing application (for White – Sr. Red Belts) \nClick here for the black belt testing application (for all Black Belt ranks) \nA list of eligible students for this testing will be posted in the lobby. Please find your/your child’s name on the list and fill out a testing application. Brown belts and above need to list their board breaks at the bottom (and get those breaks approved by an instructor when turning in the application). If you need a different belt size than the one listed\, please let us know. \nStudents are required to know their belt information\, achieve necessary stripes\, and attend the required number of classes for their level. Please visit the belt info page for a list of all this information. \nSPARRING EQUIPMENT ORDER FORM\nAll Sr. Yellow Belts must also turn in a Sparring Equipment order form by January 20th. All sparring gear must be ordered through Kickside Martial Arts. \nBLACK BELT PACK\nAll Black Belt Candidates that want an embroidered heavy-weight uniform\, black gear and weapons must turn in a Black Belt Pack order form by January 15th. \nBOARD BREAKING: Brown Belts and above must supply their own boards for testing. It is recommended that you bring extra boards in case one breaks during set-up. Breaks must be approved prior to test and written in on testing application. Last day to order boards is January 12th. \nDue to the number of students who are between ranks the week after testing\, we will be following a revised schedule for the week of February 8th. \nMONTGOMERY Revised Schedule: February 8–13\, 2016 \nHILLSBOROUGH Revised Week: February 8–13\, 2016 \n 
URL:https://www.kicksidema.com/event/primary-testing-february-2016/
LOCATION:North Hunterdon High School\, 1445 Route 31 South\, Annandale\, NJ\, 08801\, United States
CATEGORIES:Hillsborough,Home,Montgomery
ORGANIZER;CN="NJMAA":MAILTO:newjerseymaa@gmail.com
END:VEVENT
BEGIN:VEVENT
DTSTART;TZID=America/New_York:20160204T191500
DTEND;TZID=America/New_York:20160204T210000
DTSTAMP:20260419T134925
CREATED:20160126T221322Z
LAST-MODIFIED:20160126T221506Z
UID:4073-1454613300-1454619600@www.kicksidema.com
SUMMARY:3-day Candidate Review - February 2016
DESCRIPTION:The 3-day black belt candidate review will be held on February 4th in MONTGOMERY at 7:15pm \nThis is a mandatory review for senior red belts testing on February 7th. Black Belt essays are due and a written test will be administered. This review and testing will take longer than the previous two reviews. Please plan accordingly.
URL:https://www.kicksidema.com/event/3-day-candidate-review-february-2016/
CATEGORIES:Home,Montgomery
END:VEVENT
BEGIN:VEVENT
DTSTART;TZID=America/New_York:20160130T124500
DTEND;TZID=America/New_York:20160130T160000
DTSTAMP:20260419T134925
CREATED:20160115T031350Z
LAST-MODIFIED:20160115T031350Z
UID:4063-1454157900-1454169600@www.kicksidema.com
SUMMARY:Testing Prep Seminars: Montgomery & Hillsborough
DESCRIPTION:Need extra help with your form before testing? Join us for a special testing prep seminar and polish your skills. Seminars count as 3 class credits. Maximum 10 kids per seminar. First come\, first serve.  \nCost: $15 per seminar \nHILLSBOROUGH TESTING PREPS:\nWhite – Sr. Yellow: 12:45 – 1:45pm\nGreen – Sr. Blue: 1:45 – 2:45pm \nMONTGOMERY TESTING PREPS:\nLow Rank Review Seminar for Brown & Up: 1:15 – 2:00pm (No class credits)\nBrown – Red: 2:00 – 3:00pm*\nBlack Belts at 3:00 – 4:00pm. \n*Note: Brown-Red seminar will not include coverage of the low rank forms. If you need help with those\, sign up for the 45-min low rank seminar. If you attend both seminars\, the total cost is $20
URL:https://www.kicksidema.com/event/testing-prep-seminars-montgomery-hillsborough/
END:VEVENT
BEGIN:VEVENT
DTSTART;VALUE=DATE:20160128
DTEND;VALUE=DATE:20160129
DTSTAMP:20260419T134925
CREATED:20160126T220239Z
LAST-MODIFIED:20160126T220753Z
UID:4071-1453939200-1454025599@www.kicksidema.com
SUMMARY:2-week Candidate Review - February 2016
DESCRIPTION:The two-week black belt candidate review will be held on January 28th \nin Montgomery at 7:15pm\nin Hillborough at 5:45pm \nAll senior red belts are encouraged to attend. Instructors will review your knowledge of forms and information and give you pointers on where you can improve. This is an invaluable resource for you in the testing process and mandatory for those planning to test in February.
URL:https://www.kicksidema.com/event/2-week-candidate-review/
CATEGORIES:Hillsborough,Home,Montgomery
END:VEVENT
BEGIN:VEVENT
DTSTART;VALUE=DATE:20160119
DTEND;VALUE=DATE:20160124
DTSTAMP:20260419T134925
CREATED:20160105T154301Z
LAST-MODIFIED:20160105T154518Z
UID:4050-1453161600-1453593599@www.kicksidema.com
SUMMARY:Breaking Week: January 19–23\, 2016
DESCRIPTION:Green belts and up (all ranks Adult/Teen class) will be focusing on breaking boards in classes January 19–23\, 2016. Boards may be ordered through the school in bundles of 25 or purchased at a local lumber yard. Details on sizes\, grain direction and other breaking week tips are available on the board breaking page. \nBoard order forms are available in the lobby and are due to the office by January 11th. Board orders will be made available on the first day of breaking week. All orders must be pre-paid. \nNote: Brown Belts and above will need to bring boards for breaking at the February testing. Please factor this in when buying boards. \n**Do not bring boards to class in your gear bag. Doing so will damage the bag.**
URL:https://www.kicksidema.com/event/breaking-week-january-19-23-2016/
CATEGORIES:Hillsborough,Home,Montgomery
END:VEVENT
BEGIN:VEVENT
DTSTART;TZID=America/New_York:20160118T130000
DTEND;TZID=America/New_York:20160118T160000
DTSTAMP:20260419T134925
CREATED:20160105T154219Z
LAST-MODIFIED:20160105T154219Z
UID:4049-1453122000-1453132800@www.kicksidema.com
SUMMARY:Power Breaking Workshop at Hillsborough
DESCRIPTION:This workshop is for experienced breakers looking to build up\nnumbers and bone growth. We request that participants have\nthe ability to break at least a stack of four 10” boards to attend.  \nCost: $35 (attendees must bring their own materials AND 4 cinderblocks to use as stands) \nTechniques we will be building:\nPavers: elbow\, palm heel and side/spin side kick\nWood: 3-directional breaks\, speed breaks\, bats\,\ntwin breaks\n\nBlue stone\, ice\, watermelons\, coconuts\, cross-grain wood breaks\,\nand other materials will be featured in the next workshop.
URL:https://www.kicksidema.com/event/power-breaking-workshop-at-hillsborough/
CATEGORIES:Hillsborough,Home
END:VEVENT
BEGIN:VEVENT
DTSTART;VALUE=DATE:20160118
DTEND;VALUE=DATE:20160119
DTSTAMP:20260419T134925
CREATED:20160105T153904Z
LAST-MODIFIED:20160106T015555Z
UID:4048-1453075200-1453161599@www.kicksidema.com
SUMMARY:Martin Luther King Jr. Day Closing
DESCRIPTION:No Classes in observance of MLK Day.  \nThere will be a special Power Breaking Workshop in Hillsborough on this day.
URL:https://www.kicksidema.com/event/martin-luther-king-jr-day-closing/
CATEGORIES:Hillsborough,Home,Montgomery
END:VEVENT
BEGIN:VEVENT
DTSTART;VALUE=DATE:20160109
DTEND;VALUE=DATE:20160110
DTSTAMP:20260419T134925
CREATED:20151129T123715Z
LAST-MODIFIED:20160105T162410Z
UID:4028-1452297600-1452383999@www.kicksidema.com
SUMMARY:Winterfest Tournament
DESCRIPTION:South Ridge Community Church (7 Pittstown Rd\, Clinton\, NJ)\n9:00 am – 3:00 pm  \nExact ring assignments (and times) will be made available in the school in the days leading up to the tournament.\n\nFeaturing competition in:\n• Traditional Forms\n• Stereo forms (side-by-side)\n• Creative weapons (black belts)\nAll forms will include a formal bow in and presentation. Open to White Belts and Up. \nFull tournament rules are available in the lobby \n**50% of admission proceeds will benefit Susan G. Komen For the Cure**
URL:https://www.kicksidema.com/event/winterfest-tournament/
CATEGORIES:Hillsborough,Home,Montgomery
END:VEVENT
BEGIN:VEVENT
DTSTART;VALUE=DATE:20151231
DTEND;VALUE=DATE:20160102
DTSTAMP:20260419T134925
CREATED:20151214T005519Z
LAST-MODIFIED:20151214T005528Z
UID:4034-1451520000-1451692799@www.kicksidema.com
SUMMARY:New Year Closing 2015/2016
DESCRIPTION:We will be closed Thursday and Friday for the holiday. Happy New Year!
URL:https://www.kicksidema.com/event/new-years-closing-20152016/
CATEGORIES:Hillsborough,Home,Montgomery
END:VEVENT
BEGIN:VEVENT
DTSTART;VALUE=DATE:20151228
DTEND;VALUE=DATE:20160102
DTSTAMP:20260419T134925
CREATED:20151222T230101Z
LAST-MODIFIED:20151222T230101Z
UID:4042-1451260800-1451692799@www.kicksidema.com
SUMMARY:Holiday 2015 Revised Schedule
DESCRIPTION:Montgomery Revised Schedule 12/28/2015 – 1/1/2016 \nHillsborough Revised Schedule 12/28/2015 – 1/1/2016 \nWe will be operating under revised schedules for the week between Christmas and the New Year. Please see the above links for class times in either location.
URL:https://www.kicksidema.com/event/holiday-2015-revised-schedule/
END:VEVENT
BEGIN:VEVENT
DTSTART;VALUE=DATE:20151225
DTEND;VALUE=DATE:20151228
DTSTAMP:20260419T134925
CREATED:20151214T005426Z
LAST-MODIFIED:20151214T005426Z
UID:4033-1451001600-1451260799@www.kicksidema.com
SUMMARY:Christmas Closing 2015
DESCRIPTION:We will be closed for the holiday. Peace and joy from our family to yours.
URL:https://www.kicksidema.com/event/christmas-closing-2015/
CATEGORIES:Hillsborough,Home,Montgomery
END:VEVENT
BEGIN:VEVENT
DTSTART;VALUE=DATE:20151127
DTEND;VALUE=DATE:20151128
DTSTAMP:20260419T134925
CREATED:20151109T220312Z
LAST-MODIFIED:20151109T225058Z
UID:4000-1448582400-1448668799@www.kicksidema.com
SUMMARY:Black Friday Events 2015
DESCRIPTION:Drop your kids off at the Montgomery location while you shop! We will be running a full day of activities. Please inquire in office for more info. $40 to attend all the “Extra” events or choose individually (prices below). Pre-registration is required. \nFREE EVENTS: Students may attend their class & bring a friend class only\n12:30 – 1:30 Adult/Teen class\n1:30 – 2:30 Brown and Up\n2:30- 3:30 Green – Sr. Blue\n3:30 – 4:15 White – Sr. Yellow\n4:15 – 4:45 Bring a Friend Class \nEXTRA FUN EVENTS:\n(individual pricing in parentheses)\n4:45 – 5:30 Ju-jitsu seminar ($15)\n5:30 – 7:00 Fun & Games/Pizza ($20)\n7:00 – 8:30 Movie Night – Inside Out ($15) \n 
URL:https://www.kicksidema.com/event/black-friday-events-2015/
CATEGORIES:Home,Montgomery
END:VEVENT
BEGIN:VEVENT
DTSTART;TZID=America/New_York:20151126T200000
DTEND;TZID=America/New_York:20151126T200000
DTSTAMP:20260419T134925
CREATED:20151109T224723Z
LAST-MODIFIED:20151109T230806Z
UID:4002-1448568000-1448568000@www.kicksidema.com
SUMMARY:All-Night Star Wars Movie Marathon
DESCRIPTION:At Hillsborough location\, Thanksgiving night! \nWe will be watching all the Star Wars movies back-to-back\, in anticipation of the new movie release. Participants will receive light sabers and an instructional class on how to use it. \nBring a sleeping bag\, pajamas and a pillow. We will provide popcorn and drinks.\nCost is $50 per person (half-price when attending with someone over 18)
URL:https://www.kicksidema.com/event/all-night-star-wars-movie-marathon/
CATEGORIES:Hillsborough,Home
END:VEVENT
BEGIN:VEVENT
DTSTART;VALUE=DATE:20151126
DTEND;VALUE=DATE:20151129
DTSTAMP:20260419T134925
CREATED:20151120T175848Z
LAST-MODIFIED:20151120T180049Z
UID:4013-1448496000-1448755199@www.kicksidema.com
SUMMARY:Thanksgiving Holiday Closing (No regular classes)
DESCRIPTION:We give thanks for the wonderful network of people we have as members and friends. Have a great Thanksgiving Holiday! \n11/26 – No classes\, Star Wars Movie Marathon at Hillsborough\n11/27 – No regular classes\, Black Friday Events (classes\, seminar\, fun & games\, movie night) at Montgomery\n11/28 – No classes
URL:https://www.kicksidema.com/event/thanksgiving-holiday-closing-no-regular-classes/
CATEGORIES:Hillsborough,Home,Montgomery
END:VEVENT
BEGIN:VEVENT
DTSTART;VALUE=DATE:20151121
DTEND;VALUE=DATE:20151122
DTSTAMP:20260419T134925
CREATED:20151030T005207Z
LAST-MODIFIED:20151030T005207Z
UID:3992-1448064000-1448150399@www.kicksidema.com
SUMMARY:Secondary and Collar Testing at Montgomery -- November 2015
DESCRIPTION:Secondary testing is for all eligible students\, white through sr. brown belt\, that did not get promoted in October. \nTestings will all take place at the Montgomery location (1340 Route 206\, Skillman\, NJ) \n\n\n\nTESTING\nTIME\n\n\nInstructor Collar Testing\n(no adult class in Montgomery on 11/21)\n9:00 am\n\n\nWhite – Sr. Yellow Belts\n1:00 pm\n\n\n Green – Sr. Brown Belts\n2:00 pm\n\n\n\nNote: times are for your current rank\, not the rank for which you are testing. \nGreen Belts and Up must bring complete sparring gear to the testing.\nBrown Belts and Up must bring boards to the testing. \nClick here for the testing application. Fill out and turn it to the office.\nAll Senior Yellow Belts need to order sparring gear. Click here for that order form.
URL:https://www.kicksidema.com/event/secondary-and-collar-testing-at-montgomery-november-2015/
CATEGORIES:Hillsborough,Home,Montgomery
END:VEVENT
BEGIN:VEVENT
DTSTART;TZID=America/New_York:20151114T130000
DTEND;TZID=America/New_York:20151114T143000
DTSTAMP:20260419T134925
CREATED:20151110T231113Z
LAST-MODIFIED:20151110T231113Z
UID:4006-1447506000-1447511400@www.kicksidema.com
SUMMARY:Testing Prep Seminar\, in Montgomery
DESCRIPTION:1:00 – 2:30pm in Montgomery \nPolish up on your form and secondary curriculum for the upcoming testing.\nCost: $25 \nCounts as 3 class credits \n 
URL:https://www.kicksidema.com/event/testing-prep-seminar-in-montgomery/
CATEGORIES:Home,Montgomery
END:VEVENT
BEGIN:VEVENT
DTSTART;VALUE=DATE:20151031
DTEND;VALUE=DATE:20151101
DTSTAMP:20260419T134925
CREATED:20151001T013412Z
LAST-MODIFIED:20151015T181609Z
UID:3972-1446249600-1446335999@www.kicksidema.com
SUMMARY:Closed for Halloween
DESCRIPTION:Have a safe and happy Halloween!
URL:https://www.kicksidema.com/event/closed-for-halloween-3/
CATEGORIES:Hillsborough,Home,Montgomery
END:VEVENT
BEGIN:VEVENT
DTSTART;VALUE=DATE:20151012
DTEND;VALUE=DATE:20151017
DTSTAMP:20260419T134925
CREATED:20150921T153607Z
LAST-MODIFIED:20151015T181541Z
UID:3964-1444608000-1445039999@www.kicksidema.com
SUMMARY:Revised Schedule & Spirit Week -- October 12-16\, 2015
DESCRIPTION:Due to the number of students between ranks following our primary testing\, we will be operating under a revised schedule of classes for the week of October 12th. Please refer to the schedules below before coming to class during this week. \nHillsborough Revised Schedule 10/12-10/16 \nMontgomery Revised Schedule 10/12-10/16 \nTHIS WILL ALSO BE A SPIRIT WEEK!! BRING A FRIEND TO CLASS – POP A BALLOON\, WIN A PRIZE. ONE LUCKY MEMBER WILL WIN THE GRAND PRIZE OF A MOUNTAIN BIKE! Each friend you bring gets you an entry for the bike drawing.\nMonday: Fun & Games Day (No adult/teen class)\nTuesday: Nunchucks Day & Make-up testings\nWednesday: Self Defense Day\nThursday: Student Instructor Day\nFriday: No classes\, Rank ceremonies at Montgomery
URL:https://www.kicksidema.com/event/revised-schedule-october-12-15-2015/
CATEGORIES:Hillsborough,Home,Montgomery
END:VEVENT
BEGIN:VEVENT
DTSTART;VALUE=DATE:20151010
DTEND;VALUE=DATE:20151011
DTSTAMP:20260419T134926
CREATED:20150826T115754Z
LAST-MODIFIED:20150826T120836Z
UID:3928-1444435200-1444521599@www.kicksidema.com
SUMMARY:Primary Testing: October 10\, 2015
DESCRIPTION:Primary testing for all NJMAA schools will be held on Saturday\, October 10th at the South Ridge Community Church gymnasium (7 Pittstown Rd.\, Clinton\, NJ). There will be NO REGULAR CLASSES on this day due to mandatory instructor presence at this event.\n \nNote: Testing and rank ceremony times are for your CURRENT RANK\, not the rank you are testing to become! Students should try to arrive 15 min early for their testing. \n\n\n\nCurrent Belt Rank\nTesting Start Time\n\n\nWhite through Sr. Yellow Belt\n9:00 am\n\n\nAdults (White – Red Belt)\n10:00 am\n\n\nGreen through Sr. Blue Belt\n11:00 am\n\n\nBrown through Red Belt\n12:45 pm\n\n\nSr. Red and All Black Belts\n2:00 pm\n\n\n\nTesting Procedures: \nClick here for the colored belt testing application (for White – Sr. Red Belts) \nClick here for the black belt testing application (for all Black Belt ranks) \nAll students must turn in the appropriate TESTING APPLICATION by October 3rd! Study belt information for your current belt rank (available under the “Belt Info” tab). Students must meet the minimum class requirement and earn all stripes before being eligible to test. \nSPARRING EQUIPMENT ORDER FORM\nAll Sr. Yellow Belts must also turn in a Sparring Equipment order form by September 14th. All sparring gear must be ordered through Kickside Martial Arts. \nBLACK BELT PACK\nAll Black Belt Candidates that want an embroidered heavy-weight uniform\, black gear and weapons must turn in a Black Belt Pack order form by September 10th. \nBOARD BREAKING: Brown Belts and above must supply their own boards for testing. It is recommended that you bring extra boards in case one breaks during set-up. Breaks must be approved prior to test and written in on testing application. Last day to order boards is September 14th. \nDue to the number of students who are between ranks the week after testing\, we will be following a revised schedule for the week of October 12th. Revised schedules to come \n 
URL:https://www.kicksidema.com/event/primary-testing-october-10-2015/
CATEGORIES:Hillsborough,Home,Montgomery
END:VEVENT
BEGIN:VEVENT
DTSTART;TZID=America/New_York:20151008T191500
DTEND;TZID=America/New_York:20151008T203000
DTSTAMP:20260419T134926
CREATED:20151001T012608Z
LAST-MODIFIED:20151001T232418Z
UID:3970-1444331700-1444336200@www.kicksidema.com
SUMMARY:2-day Sr. Red Belt Review at Montgomery
DESCRIPTION:Black belt essays are due and written belt knowledge tests will be administered after the comprehensive forms review. Please be prepared to stay longer than on previous review nights. Speak with Mr. Kanabay or Miss Reed for more information.
URL:https://www.kicksidema.com/event/2-day-sr-red-belt-review-at-montgomery/
CATEGORIES:Home,Montgomery
END:VEVENT
BEGIN:VEVENT
DTSTART;TZID=America/New_York:20151003T130000
DTEND;TZID=America/New_York:20151003T150000
DTSTAMP:20260419T134926
CREATED:20151001T012237Z
LAST-MODIFIED:20151001T200138Z
UID:3969-1443877200-1443884400@www.kicksidema.com
SUMMARY:Black Belt Testing Review at Montgomery
DESCRIPTION:$30 to attend \nReview forms and secondary material for the upcoming testing.
URL:https://www.kicksidema.com/event/black-belt-testing-review-at-montgomery/
CATEGORIES:Hillsborough,Home,Montgomery
END:VEVENT
BEGIN:VEVENT
DTSTART;TZID=America/New_York:20150923T184500
DTEND;TZID=America/New_York:20150923T191500
DTSTAMP:20260419T134926
CREATED:20150826T122210Z
LAST-MODIFIED:20151001T012348Z
UID:3932-1443033900-1443035700@www.kicksidema.com
SUMMARY:2-week review
DESCRIPTION:For all senior red belts\, at Montgomery
URL:https://www.kicksidema.com/event/2-week-review/
CATEGORIES:Home,Montgomery
END:VEVENT
END:VCALENDAR