BEGIN:VCALENDAR
VERSION:2.0
PRODID:-//Kickside Martial Arts - ECPv6.0.6.2//NONSGML v1.0//EN
CALSCALE:GREGORIAN
METHOD:PUBLISH
X-WR-CALNAME:Kickside Martial Arts
X-ORIGINAL-URL:https://www.kicksidema.com
X-WR-CALDESC:Events for Kickside Martial Arts
REFRESH-INTERVAL;VALUE=DURATION:PT1H
X-Robots-Tag:noindex
X-PUBLISHED-TTL:PT1H
BEGIN:VTIMEZONE
TZID:America/New_York
BEGIN:DAYLIGHT
TZOFFSETFROM:-0500
TZOFFSETTO:-0400
TZNAME:EDT
DTSTART:20160313T070000
END:DAYLIGHT
BEGIN:STANDARD
TZOFFSETFROM:-0400
TZOFFSETTO:-0500
TZNAME:EST
DTSTART:20161106T060000
END:STANDARD
BEGIN:DAYLIGHT
TZOFFSETFROM:-0500
TZOFFSETTO:-0400
TZNAME:EDT
DTSTART:20170312T070000
END:DAYLIGHT
BEGIN:STANDARD
TZOFFSETFROM:-0400
TZOFFSETTO:-0500
TZNAME:EST
DTSTART:20171105T060000
END:STANDARD
END:VTIMEZONE
BEGIN:VEVENT
DTSTART;TZID=America/New_York:20170209T181500
DTEND;TZID=America/New_York:20170209T200000
DTSTAMP:20260419T120736
CREATED:20170209T204648Z
LAST-MODIFIED:20170209T204648Z
UID:4440-1486664100-1486670400@www.kicksidema.com
SUMMARY:2-Day Candidate Review in Montgomery
DESCRIPTION:Black belt 200 word essays are due and written belt knowledge tests will be administered after the comprehensive forms review. Please be prepared to stay longer than on previous review nights. Speak with Mr. Kanabay for more information.
URL:https://www.kicksidema.com/event/2-day-candidate-review-in-montgomery/
CATEGORIES:Home,Montgomery
END:VEVENT
BEGIN:VEVENT
DTSTART;VALUE=DATE:20170130
DTEND;VALUE=DATE:20170204
DTSTAMP:20260419T120736
CREATED:20170106T200934Z
LAST-MODIFIED:20170106T200941Z
UID:4387-1485734400-1486166399@www.kicksidema.com
SUMMARY:Breaking Week: January 30 – February 3\, 2017
DESCRIPTION:Green belts and up (all ranks Adult/Teen class) will be breaking boards in classes January 30 – February 3\, 2017. Boards may be ordered through the school in bundles of 25 or purchased at a local lumber yard. Details on sizes\, grain direction and other breaking week tips are available on the board breaking page. \nBoard order forms are available in the lobby and are due to the office by January 23rd. Board orders will be made available on the first day of breaking week. All orders must be pre-paid. \nNote: Brown Belts and above will need to bring boards for breaking at the February testing. Please factor this in when buying boards. \n**Do not bring boards to class in your gear bag. Doing so will damage the bag.**
URL:https://www.kicksidema.com/event/breaking-week-january-30-february-3-2017/
CATEGORIES:Hillsborough,Home,Montgomery
END:VEVENT
BEGIN:VEVENT
DTSTART;VALUE=DATE:20170128
DTEND;VALUE=DATE:20170129
DTSTAMP:20260419T120736
CREATED:20170121T214240Z
LAST-MODIFIED:20170128T134424Z
UID:4407-1485561600-1485647999@www.kicksidema.com
SUMMARY:Testing Prep Seminars -- January 28th
DESCRIPTION:Review your belt curriculum and polish your techniques before the testing. Seminars are $15 each. Limited enrollment\, availability is first come\, first served. \nTesting Prep Seminars at Montgomery\, taught by Mr. Kanabay: \n\n\n\nBlack Belts\n11:00 am – 12:15 am– CANCELED\n\n\nGreen – Sr. Blue Belts\n12:15 am – 1:15 pm\n\n\n\n____________ \n\nTesting Prep Seminars at Hillsborough\, taught by Ms. Abate: \n\n\n\nWhite – Sr. Yellow\n12:30 pm – 1:30 pm\n\n\nBrown – Red Belts\n1:30 pm – 2:30 pm\n\n\n\n____________ \n\nHigh Ranks may attend multiple seminars if they need a review of beginner or advanced forms. Extra seminars are $5 each and do not count as 3 additional class credits. We will not spend time teaching beginner forms in the Brown – Red Belt seminar. \nSign up in the school.
URL:https://www.kicksidema.com/event/testing-prep-seminars-january-28th/
CATEGORIES:Hillsborough,Home,Montgomery
END:VEVENT
BEGIN:VEVENT
DTSTART;TZID=America/New_York:20161230T130000
DTEND;TZID=America/New_York:20161230T150000
DTSTAMP:20260419T120736
CREATED:20161221T134519Z
LAST-MODIFIED:20161221T134519Z
UID:4377-1483102800-1483110000@www.kicksidema.com
SUMMARY:Send-off Party for Miss Reed
DESCRIPTION:It is with heavy hearts that we say farewell to Miss Reed. She has been activated by the U.S. Army and will be serving our country for one year\, abroad in Kuwait. After which time Miss Reed will be returning to her students at Kickside. \nThe Kickside staff would like to invite all of our members to come to a special “send-off” party for Miss Reed at the Hillsborough location on Friday\, December 30th from 1:00 – 3:00pm.
URL:https://www.kicksidema.com/event/send-off-party-for-miss-reed/
CATEGORIES:Hillsborough,Home
END:VEVENT
BEGIN:VEVENT
DTSTART;VALUE=DATE:20161230
DTEND;VALUE=DATE:20170101
DTSTAMP:20260419T120736
CREATED:20161215T180817Z
LAST-MODIFIED:20161215T180817Z
UID:4365-1483056000-1483228799@www.kicksidema.com
SUMMARY:New Years 2016/2017 Closing
DESCRIPTION:There will be no classes Friday\, December 30th or Saturday\, December 31st in honor of the holiday. May you have a happy and safe New Year!
URL:https://www.kicksidema.com/event/new-years-20162017-closing/
CATEGORIES:Hillsborough,Home,Montgomery
END:VEVENT
BEGIN:VEVENT
DTSTART;VALUE=DATE:20161226
DTEND;VALUE=DATE:20161230
DTSTAMP:20260419T120736
CREATED:20161215T181012Z
LAST-MODIFIED:20161215T185912Z
UID:4366-1482710400-1483055999@www.kicksidema.com
SUMMARY:Revised Schedule -- December 2016
DESCRIPTION:We will be operating under a revised schedule of classes for the week between Christmas and New Year.  \nClick here for Hillsborough’s Revised Schedule\, December 26–29\, 2016 \nClick here for Montgomery’s Revised Schedule\, December 26–29\, 2016
URL:https://www.kicksidema.com/event/revised-schedule-december-2016/
CATEGORIES:Hillsborough,Home,Montgomery
END:VEVENT
BEGIN:VEVENT
DTSTART;VALUE=DATE:20161223
DTEND;VALUE=DATE:20161225
DTSTAMP:20260419T120736
CREATED:20161215T180659Z
LAST-MODIFIED:20161215T180659Z
UID:4364-1482451200-1482623999@www.kicksidema.com
SUMMARY:Christmas Closing 2016
DESCRIPTION:We will be closed for the holiday. Peace and joy from our family to yours.
URL:https://www.kicksidema.com/event/christmas-closing-2016/
CATEGORIES:Hillsborough,Home,Montgomery
END:VEVENT
BEGIN:VEVENT
DTSTART;TZID=America/New_York:20161125T080000
DTEND;TZID=America/New_York:20161125T170000
DTSTAMP:20260419T120736
CREATED:20161118T020028Z
LAST-MODIFIED:20161118T020219Z
UID:4343-1480060800-1480093200@www.kicksidema.com
SUMMARY:Black Friday Events at Montgomery 2016
DESCRIPTION:Drop your kids off at the Montgomery location while you shop! We will be running a full day of activities. Cost $25/person to attend the “Extra” events. Save $5 if you bring someone to the “bring a friend class” \nFREE EVENTS: Students may attend their class & bring a friend class only\n8:30 – 9:30 Adult/Teen class\n9:30 – 10:15 Green – Sr. Blue\n10:15- 11:00 Brown and Up\n11:00 – 11:45 White – Sr. Yellow\n11:45 – 12:15 Bring a Friend Class\n4:15 – 4:45 Little Kickers \nEXTRA FUN EVENTS:\n12:30 – 2:00 Fun & Games\n2:00 – 4:00 Movie Night – Harry Potter and the Sorcerer’s Stone
URL:https://www.kicksidema.com/event/black-friday-events-at-montgomery-2016/
CATEGORIES:Home,Montgomery
END:VEVENT
BEGIN:VEVENT
DTSTART;VALUE=DATE:20161124
DTEND;VALUE=DATE:20161127
DTSTAMP:20260419T120736
CREATED:20161104T231116Z
LAST-MODIFIED:20161118T020147Z
UID:4333-1479945600-1480204799@www.kicksidema.com
SUMMARY:Thanksgiving Closing 2016
DESCRIPTION:11/24: No classes at either location\, due to the holiday.\n11/25: Black Friday Events of Montgomery\, No classes Hillsborough\n11/26: No classes Montgomery\, Regular schedule Hillsborough
URL:https://www.kicksidema.com/event/thanksgiving-closing-2016/
CATEGORIES:Hillsborough,Home,Montgomery
END:VEVENT
BEGIN:VEVENT
DTSTART;VALUE=DATE:20161121
DTEND;VALUE=DATE:20161122
DTSTAMP:20260419T120736
CREATED:20161104T232230Z
LAST-MODIFIED:20161104T232230Z
UID:4337-1479686400-1479772799@www.kicksidema.com
SUMMARY:Schedule Changes for Winter 2016
DESCRIPTION:The regular schedule of classes for both locations will be changing\, effective Monday November 21st. Click the links below to preview the new schedules.\nClick for Kickside of Montgomery\nClick for Kickside of Hillsborough
URL:https://www.kicksidema.com/event/schedule-changes-for-winter-2016/
CATEGORIES:Hillsborough,Home,Montgomery
END:VEVENT
BEGIN:VEVENT
DTSTART;TZID=America/New_York:20161119T130000
DTEND;TZID=America/New_York:20161119T150000
DTSTAMP:20260419T120736
CREATED:20161104T231505Z
LAST-MODIFIED:20161104T231720Z
UID:4335-1479560400-1479567600@www.kicksidema.com
SUMMARY:Secondary Testing at Hillsborough -- November 2016
DESCRIPTION:Secondary testing is for all eligible students\, white through sr. brown\, who were not promoted at the October primary testing. \nTesting will take place at the Hillsborough location (378 South Branch Rd.\, Suite 104\, Hillsborough\, NJ) \n\n\n\nRANK TESTING\nTIME\n\n\nGreen through Sr. Brown – at Hillsborough\n1:00 pm\n\n\nWhite through Sr. Yellow – at Hillsborough\n2:00 pm\n\n\n\nNote: times are for your current rank\, not the rank for which you are testing. \nGreen Belts and Up must bring complete sparring gear to the testing.\nBrown Belts and Up must bring boards to the testing. \nClick here for the testing application. Fill out and turn it to the office.\nAll Senior Yellow Belts need to order sparring gear. Click here for that order form.
URL:https://www.kicksidema.com/event/secondary-testing-at-hillsborough-november-2016/
CATEGORIES:Hillsborough,Home
END:VEVENT
BEGIN:VEVENT
DTSTART;TZID=America/New_York:20161119T103000
DTEND;TZID=America/New_York:20161119T113000
DTSTAMP:20260419T120736
CREATED:20161104T231857Z
LAST-MODIFIED:20161104T231857Z
UID:4336-1479551400-1479555000@www.kicksidema.com
SUMMARY:Collar Testing at Montgomery -- November 2016
DESCRIPTION:Black belts looking to test for R/W/B or Blue instructor collars may attend this event. Please speak to a chief instructor prior to attending for eligibility check (blue collar only).
URL:https://www.kicksidema.com/event/collar-testing-at-montgomery-november-2016/
CATEGORIES:Home,Montgomery
END:VEVENT
BEGIN:VEVENT
DTSTART;TZID=America/New_York:20161108T173000
DTEND;TZID=America/New_York:20161108T183000
DTSTAMP:20260419T120736
CREATED:20161104T231348Z
LAST-MODIFIED:20161104T231415Z
UID:4334-1478626200-1478629800@www.kicksidema.com
SUMMARY:Winter InVACATIONal Meeting at Montgomery
DESCRIPTION:Come find out more about this fun\, family-oriented tournament/vacation at Hunter Mountain (March 2017). This event is geared toward intermediate and advanced ranks only.
URL:https://www.kicksidema.com/event/winter-invacational-meeting/
CATEGORIES:Home,Montgomery
END:VEVENT
BEGIN:VEVENT
DTSTART;VALUE=DATE:20161031
DTEND;VALUE=DATE:20161101
DTSTAMP:20260419T120736
CREATED:20161019T213012Z
LAST-MODIFIED:20161019T215038Z
UID:4297-1477872000-1477958399@www.kicksidema.com
SUMMARY:Halloween 2016 Closing
DESCRIPTION:All evening classes will be canceled on Monday\, October 31st. We will still be holding the afternoon classes in Montgomery: All Ranks at 12:00pm and Little Kickers at 1:00pm
URL:https://www.kicksidema.com/event/halloween-2016-closing/
CATEGORIES:Hillsborough,Home,Montgomery
END:VEVENT
BEGIN:VEVENT
DTSTART;TZID=America/New_York:20161029T120000
DTEND;TZID=America/New_York:20161029T130000
DTSTAMP:20260419T120736
CREATED:20161026T041905Z
LAST-MODIFIED:20161026T041905Z
UID:4314-1477742400-1477746000@www.kicksidema.com
SUMMARY:Little Kickers Halloween Party at Hillsborough
DESCRIPTION:Join us for a fun Halloween costume party for ages 6 and under. Bring a friend to participate in games and other fun activities. Food and refreshments will be served.
URL:https://www.kicksidema.com/event/little-kickers-halloween-party-at-hillsborough/
CATEGORIES:Hillsborough,Home
END:VEVENT
BEGIN:VEVENT
DTSTART;TZID=America/New_York:20161021T180000
DTEND;TZID=America/New_York:20161021T183000
DTSTAMP:20260419T120736
CREATED:20161020T021129Z
LAST-MODIFIED:20161020T021129Z
UID:4299-1477072800-1477074600@www.kicksidema.com
SUMMARY:Mini Intro to Essential Oils
DESCRIPTION:Friday\, October 21st\n6:00 – 6:30 pm at Kickside of Montgomery (lobby)\nCome hear from Briteangel essential oil expert and Kickside Black Belt Stephanie Englebrecht about how essential oils can enhance your life and improve your health.
URL:https://www.kicksidema.com/event/mini-intro-to-essential-oils/
CATEGORIES:Home,Montgomery
END:VEVENT
BEGIN:VEVENT
DTSTART;TZID=America/New_York:20161014T170000
DTEND;TZID=America/New_York:20161014T194500
DTSTAMP:20260419T120736
CREATED:20161007T214624Z
LAST-MODIFIED:20161007T214711Z
UID:4285-1476464400-1476474300@www.kicksidema.com
SUMMARY:Rank Ceremonies at Montgomery\, October 2016
DESCRIPTION:There will be no classes on Friday\, October 14th. We will be holding our third annual rank promotion ceremony\, for the students who tested this week. This is a special family event\, so we ask that you dress accordingly (no uniforms\, no tattered clothing). \nRank Ceremony will be held in Kickside of Montgomery (1340 Route 206\, Skillman\, NJ 08558)\n5:30 pm Rank Ceremony for White through Senior Green Belts\n6:15 pm Rank Ceremony for Blue through Red Belts\n7:00 pm Rank Ceremony for Sr. Red\, Black\, and All Ranks Adults \nRank ceremony times are for your current rank\, not the rank you tested for on Sunday.
URL:https://www.kicksidema.com/event/rank-ceremonies-at-montgomery-october-2016/
CATEGORIES:Hillsborough,Home,Montgomery
END:VEVENT
BEGIN:VEVENT
DTSTART;VALUE=DATE:20161010
DTEND;VALUE=DATE:20161015
DTSTAMP:20260419T120736
CREATED:20161007T214117Z
LAST-MODIFIED:20161007T214129Z
UID:4284-1476057600-1476489599@www.kicksidema.com
SUMMARY:Revised Schedule: October 10–14\, 2016
DESCRIPTION:Due to the number of students between ranks\, we will be operating under a revised schedule of classes for the week of October 10-14\, 2016. \nClick here for the Montgomery’s Revised Schedule\nClick here for Hillsborough’s Revised Schedule \nNotable Days:\n10/10: Fun and Games\, No Adult Class\n10/11: Make-up Testings\n10/14: Rank Ceremonies at Montgomery\n10/15: Regular Schedule of Classes Resumes
URL:https://www.kicksidema.com/event/revised-schedule-october-10-14-2016/
CATEGORIES:Hillsborough,Home,Montgomery
END:VEVENT
BEGIN:VEVENT
DTSTART;VALUE=DATE:20161009
DTEND;VALUE=DATE:20161010
DTSTAMP:20260419T120736
CREATED:20160922T205022Z
LAST-MODIFIED:20161007T213930Z
UID:4270-1475971200-1476057599@www.kicksidema.com
SUMMARY:Primary Testing — October 9\, 2016
DESCRIPTION:The primary belt testing will be held on October 9th at Hillsborough High School gymnasium (466 Raider Blvd\, Hillsborough\, NJ 08844). \nNote: Testing and rank ceremony times are for your CURRENT RANK\, not the rank you are testing to become! Students should try to arrive 15 min early for their testing. \n\n\n\nCurrent Belt Rank\nTesting Start Time\n\n\nYellow & Sr. Yellow Belt Juniors\n8:30 am\n\n\nAdults\,  White through Red Belt\n9:15 am\n\n\nWhite Belt Juniors\n9:45 am\n\n\nGreen & Sr. Green Belt Juniors\n10:30 am\n\n\nBlue & Sr. Blue Belt Juniors\n11:15 am\n\n\nBrown through Red Belt Juniors\n12:00 pm\n\n\nAll Sr. Red Belts\n12:30 pm\n\n\nAll Black Belts\n1:00 pm\n\n\n\nTesting Procedures: \nClick here for the colored belt testing application (for White – Sr. Red Belts) \nClick here for the black belt testing application (for all Black Belt ranks) \nA list of eligible students for this testing will be posted in the lobby. Please find your/your child’s name on the list and fill out a testing application. Brown belts and above need to list their board breaks at the bottom (and get those breaks approved by an instructor when turning in the application). If you need a different belt size than the one listed\, please let us know. \nStudents are required to know their belt information\, achieve necessary stripes\, and attend the required number of classes for their level. Please visit the belt info page for a list of all this information. \nSPARRING EQUIPMENT ORDER FORM\nAll Sr. Yellow Belts must also turn in a Sparring Equipment order form by September 21st. All sparring gear must be ordered through Kickside Martial Arts. \nBLACK BELT PACK\nAll Black Belt Candidates that want an embroidered heavy-weight uniform\, black gear and weapons must turn in a Black Belt Pack order form by September 8th. \nBOARD BREAKING: Brown Belts and above must supply their own boards for testing. It is recommended that you bring extra boards in case one breaks during set-up. Breaks must be approved prior to test and written in on student’s testing application. See board breaking page for more information. \nDue to the number of students who are between ranks the week after testing\, we will be following a revised schedule for the week of October 10th. \nClick here for the Montgomery’s Revised Schedule\nClick here for Hillsborough’s Revised Schedule
URL:https://www.kicksidema.com/event/primary-testing-october-9-2016/
CATEGORIES:Hillsborough,Home,Montgomery
END:VEVENT
BEGIN:VEVENT
DTSTART;TZID=America/New_York:20161008T103000
DTEND;TZID=America/New_York:20161008T143000
DTSTAMP:20260419T120736
CREATED:20160922T210250Z
LAST-MODIFIED:20160922T210250Z
UID:4272-1475922600-1475937000@www.kicksidema.com
SUMMARY:Testing Prep Seminars
DESCRIPTION:Review your curriculum and polish your techniques before the testing. Seminars are $15 each. Limited enrollment\, availability is first come\, first served. \nTesting Prep Seminars at Montgomery\, taught by Mr. Kanabay: \n\n\n\nWhite – Sr. Yellow Belts\n10:30 am – 11:30 am\n\n\nGreen & Blue Belts\n11:45 am – 12:45 pm\n\n\nSr. Green & Sr. Blue Belts\n12:45 pm – 1:45 pm\n\n\n\nTesting Prep Seminars at Hillsborough\, taught by Ms. Reed: \n\n\n\nBrown – Red Belts\n12:30 pm – 1:30 pm\n\n\nBlack Belts\n1:30 pm – 2:30 pm\n\n\n\nHigh Ranks may attend multiple seminars if they need a review of beginner or advanced forms. Senior Red Belts may attend testing prep seminars but are cautioned not to train hard prior to their black belt test on Sunday\, October 9th. 
URL:https://www.kicksidema.com/event/testing-prep-seminars/
CATEGORIES:Hillsborough,Home,Montgomery
END:VEVENT
BEGIN:VEVENT
DTSTART;TZID=America/New_York:20161006T174500
DTEND;TZID=America/New_York:20161006T193000
DTSTAMP:20260419T120736
CREATED:20160922T210654Z
LAST-MODIFIED:20160922T211705Z
UID:4274-1475775900-1475782200@www.kicksidema.com
SUMMARY:Senior Red Belt 3-day Review — October 6th
DESCRIPTION:5:45 pm at Hillsborough  \n6:00 pm at Montgomery  \nOnly students who plan to test on October 9th should attend this review. We will administer the written belt test at this review. Your black belt essay will also be due. Please see an instructor with questions. Please plan for a longer review on this night.
URL:https://www.kicksidema.com/event/senior-red-belt-3-day-review-october-6th/
CATEGORIES:Hillsborough,Home,Montgomery
END:VEVENT
BEGIN:VEVENT
DTSTART;TZID=America/New_York:20161001T123000
DTEND;TZID=America/New_York:20161001T140000
DTSTAMP:20260419T120736
CREATED:20160922T204548Z
LAST-MODIFIED:20160922T204548Z
UID:4268-1475325000-1475330400@www.kicksidema.com
SUMMARY:Black Belt Bo & Secondary Curriculum Seminar at Hillsborough
DESCRIPTION:Cost: $10 (or $25 for all 3 black belt weapon seminars) \nReview of the Bo form for the October testing as well as the secondary curriculum (sparring combo\, one step\, self defense)\nAdvance registration is required to attend.
URL:https://www.kicksidema.com/event/black-belt-bo-secondary-curriculum-seminar-at-hillsborough/
CATEGORIES:Hillsborough,Home
END:VEVENT
BEGIN:VEVENT
DTSTART;TZID=America/New_York:20160926T120000
DTEND;TZID=America/New_York:20160926T140000
DTSTAMP:20260419T120736
CREATED:20160922T212743Z
LAST-MODIFIED:20160922T212743Z
UID:4275-1474891200-1474898400@www.kicksidema.com
SUMMARY:Afternoon Classes Start in Montgomery
DESCRIPTION:Monday & Thursday Afternoons in Montgomery \n12:00 – 12:45 pm: All Ranks \n1:00 – 2:00 pm: Little Kickers (ages 3–5) \n 
URL:https://www.kicksidema.com/event/afternoon-classes-start-in-montgomery/
CATEGORIES:Home,Montgomery
END:VEVENT
BEGIN:VEVENT
DTSTART;TZID=America/New_York:20160924T123000
DTEND;TZID=America/New_York:20160924T140000
DTSTAMP:20260419T120736
CREATED:20160922T204355Z
LAST-MODIFIED:20160922T204355Z
UID:4267-1474720200-1474725600@www.kicksidema.com
SUMMARY:Black Belt Escrima Seminar at Hillsborough
DESCRIPTION:Cost: $10 (or $25 for all 3 black belt weapons seminars) \nReview of the escrima form for the October testing. Advance sign-up required.
URL:https://www.kicksidema.com/event/black-belt-escrima-seminar-at-hillsborough/
CATEGORIES:Hillsborough,Home
END:VEVENT
BEGIN:VEVENT
DTSTART;TZID=America/New_York:20160922T174500
DTEND;TZID=America/New_York:20160922T184500
DTSTAMP:20260419T120736
CREATED:20160922T210431Z
LAST-MODIFIED:20160922T210431Z
UID:4273-1474566300-1474569900@www.kicksidema.com
SUMMARY:Senior Red Belt 2-Week Review — September 22
DESCRIPTION:5:45 pm at Hillsborough  \n6:00 pm at Montgomery  \nAll senior red belts are encouraged to attend this review and get pointers on what to work on for the Black Belt test. This is also where you earn your stripes. Candidates for the October 9th test are expected to attend. The 3-day review will be held on October 6th.
URL:https://www.kicksidema.com/event/senior-red-belt-2-week-review-september-22/
CATEGORIES:Hillsborough,Home,Montgomery
END:VEVENT
BEGIN:VEVENT
DTSTART;TZID=America/New_York:20160910T130000
DTEND;TZID=America/New_York:20160910T143000
DTSTAMP:20260419T120736
CREATED:20160922T204758Z
LAST-MODIFIED:20160922T204829Z
UID:4269-1473512400-1473517800@www.kicksidema.com
SUMMARY:Black Belt Nunchuck Seminar at Montgomery
DESCRIPTION:Cost: $10 to attend ($25 for all 3 Black Belt Weapons Seminars) \nReview of the nunchuck form for the upcoming October testing.\nAdvance registration required to attend.
URL:https://www.kicksidema.com/event/nunchuck-black-belt-seminar-at-montgomery/
CATEGORIES:Home,Montgomery
END:VEVENT
BEGIN:VEVENT
DTSTART;TZID=America/New_York:20160906T160000
DTEND;TZID=America/New_York:20160906T190000
DTSTAMP:20260419T120736
CREATED:20160829T185333Z
LAST-MODIFIED:20160829T185454Z
UID:4262-1473177600-1473188400@www.kicksidema.com
SUMMARY:Back-to-School Bash (Montgomery)
DESCRIPTION:There will be no classes on Tuesday\, September 6th\, due to our back-to-school event. We will be have door prizes\, custom school supplies\, free giveaways\, bike-drawing entries\, kareoke\, pizza and ice cream. \nCome and kick off the school year at Kickside Martial Arts!
URL:https://www.kicksidema.com/event/back-to-school-bash-montgomery/
CATEGORIES:Home,Montgomery
END:VEVENT
BEGIN:VEVENT
DTSTART;VALUE=DATE:20160903
DTEND;VALUE=DATE:20160906
DTSTAMP:20260419T120736
CREATED:20160822T190827Z
LAST-MODIFIED:20160822T190827Z
UID:4259-1472860800-1473119999@www.kicksidema.com
SUMMARY:Labor Day Closing 2016
DESCRIPTION:There will be no classes on Saturday\, September 3rd or Monday\, September 5th in honor of the Labor Day holiday.
URL:https://www.kicksidema.com/event/labor-day-closing-2016/
CATEGORIES:Hillsborough,Home,Montgomery
END:VEVENT
BEGIN:VEVENT
DTSTART;TZID=America/New_York:20160820T110000
DTEND;TZID=America/New_York:20160820T140000
DTSTAMP:20260419T120736
CREATED:20160805T201124Z
LAST-MODIFIED:20160805T201124Z
UID:4238-1471690800-1471701600@www.kicksidema.com
SUMMARY:Open House\, August 20th
DESCRIPTION:No regular classes. \nWe will be opening our doors to the public on Saturday\, August 20th from 11:00am – 2:00pm.  \nNon-members of all ages can come take a FREE introductory lesson and get a FREE uniform. We will also be rolling out our best new member offer of the entire year! Walk-ins are welcome\, reservations take precedence. For more information or to reserve a spot\, contact us at either our Hillsborough or Montgomery location.  \nPrograms include:\nTaekwondo for all ages\, Mixed Martial Arts\, Fight Camp\, Competitive Travel Tournament Team\, Weapon Training\, Yoga and much more!
URL:https://www.kicksidema.com/event/open-house-august-20th-2/
CATEGORIES:Hillsborough,Home,Montgomery
END:VEVENT
BEGIN:VEVENT
DTSTART;VALUE=DATE:20160815
DTEND;VALUE=DATE:20160820
DTSTAMP:20260419T120736
CREATED:20160805T200527Z
LAST-MODIFIED:20160816T201813Z
UID:4237-1471219200-1471651199@www.kicksidema.com
SUMMARY:Kickside Pride Week 2016
DESCRIPTION:We will be holding our annual Kickside Pride week from August 15th through the 19th. Bring a friend to class and you will get to pop a balloon and win the prize inside. One lucky student will also win a mountain bike from Halter’s Cycles\, a prize valued at over $300! \nEach day will have a focus: \n\n\n\n\nMontgomery\nHillsborough\n\n\nMonday 8/15\nFun & Games\nFun & Games\n\n\nTuesday 8/16\nGrappling & MMA\nWeapons\n\n\nWednesday 8/17\nYoga*\nGrappling & MMA\n\n\nThursday 8/18\nKicks and Rolls\nKicks\n\n\nFriday 8/19\nWeapons\nRolls & Inversions\n\n\n\n*REVISED SCHEDULE FOR YOGA: 45-minute intro classes will be held at 4:30pm\, 5:15pm\, and 6:30pm. Adults are encouraged to attend any class time. Any rank may attend any of class; come to the most convenient class time.
URL:https://www.kicksidema.com/event/kickside-pride-week-2016/
CATEGORIES:Hillsborough,Home,Montgomery
END:VEVENT
END:VCALENDAR