BEGIN:VCALENDAR
VERSION:2.0
PRODID:-//Kickside Martial Arts - ECPv6.0.6.2//NONSGML v1.0//EN
CALSCALE:GREGORIAN
METHOD:PUBLISH
X-WR-CALNAME:Kickside Martial Arts
X-ORIGINAL-URL:https://www.kicksidema.com
X-WR-CALDESC:Events for Kickside Martial Arts
REFRESH-INTERVAL;VALUE=DURATION:PT1H
X-Robots-Tag:noindex
X-PUBLISHED-TTL:PT1H
BEGIN:VTIMEZONE
TZID:America/New_York
BEGIN:DAYLIGHT
TZOFFSETFROM:-0500
TZOFFSETTO:-0400
TZNAME:EDT
DTSTART:20180311T070000
END:DAYLIGHT
BEGIN:STANDARD
TZOFFSETFROM:-0400
TZOFFSETTO:-0500
TZNAME:EST
DTSTART:20181104T060000
END:STANDARD
END:VTIMEZONE
BEGIN:VEVENT
DTSTART;TZID=America/New_York:20181026T170000
DTEND;TZID=America/New_York:20181026T200000
DTSTAMP:20260419T092004
CREATED:20181023T130548Z
LAST-MODIFIED:20181026T173207Z
UID:5206-1540573200-1540584000@www.kicksidema.com
SUMMARY:Halloween Party at Montgomery - No classes at Montgomery
DESCRIPTION:5:00 – 8:00 pm in Montgomery \nFear Factor Challenge — application and waiver needed to participate. Nintendo Switch grand prize!! Sign up in the office today! \nAll other guests will participate in Halloween-themed games such as: bobbing for apples\, mummy wrap\, musical pumpkins\, and a costume contest. Pizza and drinks will be served. \nRegular Admission: $30/person \nPremium Members: $15/person\nFear Factor Challenge participants: $45/person (limited positions) \nThere will be no classes in Montgomery on Friday\, October 26th.
URL:https://www.kicksidema.com/event/halloween-party-at-montgomery-no-classes/
CATEGORIES:Home,Montgomery
END:VEVENT
BEGIN:VEVENT
DTSTART;VALUE=DATE:20181019
DTEND;VALUE=DATE:20181020
DTSTAMP:20260419T092004
CREATED:20181011T031215Z
LAST-MODIFIED:20181011T031215Z
UID:5195-1539907200-1539993599@www.kicksidema.com
SUMMARY:Rank Ceremonies at Montgomery - No classes or PNO at Montgomery
DESCRIPTION:Students may attend rank ceremonies at either location. Please alert instructor if NOT attending at your “home school.” \n5:30 pm  White – Sr. Green \n6:15 pm  Blue – Red \n7:00 pm  Sr. Red\, Black and All Teens/Adults
URL:https://www.kicksidema.com/event/rank-ceremonies-at-montgomery-no-classes-or-pno-at-montgomery/
CATEGORIES:Home,Montgomery
END:VEVENT
BEGIN:VEVENT
DTSTART;VALUE=DATE:20181018
DTEND;VALUE=DATE:20181019
DTSTAMP:20260419T092004
CREATED:20181011T031100Z
LAST-MODIFIED:20181011T031114Z
UID:5194-1539820800-1539907199@www.kicksidema.com
SUMMARY:Rank Ceremonies at Hillsborough - No classes at Hillsborough
DESCRIPTION:Students may attend rank ceremonies at either location. Please alert instructor if NOT attending at your “home school.” \n5:30 pm  White – Sr. Green \n6:15 pm  Blue – Red \n7:00 pm  Sr. Red\, Black and All Teens/Adults
URL:https://www.kicksidema.com/event/rank-ceremonies-at-hillsborough/
CATEGORIES:Hillsborough,Home
END:VEVENT
BEGIN:VEVENT
DTSTART;VALUE=DATE:20181015
DTEND;VALUE=DATE:20181020
DTSTAMP:20260419T092004
CREATED:20181011T030438Z
LAST-MODIFIED:20181016T200442Z
UID:5192-1539561600-1539993599@www.kicksidema.com
SUMMARY:Revised Week & Spirit Week: October 15–19\, 2018
DESCRIPTION:Due to the number of students who are between ranks the week after primary testing\, we will be following a revised schedule for the week of October 15th. Students may bring a friend or family member to class during the week for a special themed class (see schedule for themes) and will get to pop a balloon and win a prize for each friend. \nClick here for MONTGOMERY’S REVISED WEEK: October 15–19\, 2018 \nClick here for HILLSBOROUGH REVISED WEEK: October 15–19\, 2018 \nNOTABLE DAYS: \nMonday: Fun & Games; No Adult TKD Classes\nTuesday: Make-up Testings\nThursday: Hillsborough Rank Ceremonies; No Classes @ Hillsborough\nFriday: Montgomery Rank Ceremonies; No Classes @ Montgomery\, PNO at Hillsborough \nPlease note: Students may attend either ceremony but must notify instructors if NOT attending at their “home” school.
URL:https://www.kicksidema.com/event/revised-week-spirit-week-october-15-19-2018/
CATEGORIES:Hillsborough,Home,Montgomery
END:VEVENT
BEGIN:VEVENT
DTSTART;VALUE=DATE:20181013
DTEND;VALUE=DATE:20181014
DTSTAMP:20260419T092004
CREATED:20180906T193228Z
LAST-MODIFIED:20181011T030134Z
UID:5159-1539388800-1539475199@www.kicksidema.com
SUMMARY:Primary Testing — October 13th at North Hunterdon HS
DESCRIPTION:Primary testing for all NJMAA schools will be held on Saturday\, October 13th at North Hunterdon High School (1445 NJ-31\, Annandale\, NJ). \nNote: We are using 2 separate gyms for this testing\, the Main Gym and the Boys Gym. These are the same two from tournaments. Follow signs at the event for help locating your gymnasium. There WILL BE regular classes on this day. \nNote: Testing and rank ceremony times are for your CURRENT RANK\, not the rank you are testing to become! Students should arrive 15 min early for their testing. \n\n\n\nCurrent Belt Rank\nTesting Start Time\nGym\n\n\nYellow & Sr. Yellow Belt Juniors\n1:30 pm\nMain\n\n\nWhite Belt Juniors\n2:15 pm\nMain\n\n\nWhite – Sr. Yellow Belt Teens/Adults\n2:15 pm \nMain\n\n\nGreen & Sr. Green Belt Juniors\n3:00 pm\nMain\n\n\nBlue & Sr. Blue Belt Juniors\n3:30 pm\nBoys\n\n\nBrown & Sr. Brown Belt Juniors\n4:15 pm\nBoys\n\n\nBlack Belt Candidates\n3:30 pm\nMain\n\n\nBlack Belts\n4:00 pm\nMain\n\n\nRed Belt Juniors\n5:00 pm\nBoys \n\n\nGreen – Red Belt Teens/Adults\n5:45 pm\nBoys\n\n\n\nTesting Procedures: \nClick here for the colored belt testing application (for White – Sr. Red Belts) \nClick here for the black belt testing application (for all Black Belt ranks) \nA list of eligible students for this testing will be posted in the lobby. Please find your/your child’s name on the list and fill out a testing application. Brown belts and above need to list their board breaks at the bottom (and get those breaks approved by an instructor when turning in the application). If you need a different belt size than the one listed\, please let us know. \nStudents are required to know their belt information\, achieve necessary stripes\, and attend the required number of classes for their level. Please visit the belt info page for a list of all this information. \nSPARRING EQUIPMENT ORDER FORM\nAll Sr. Yellow Belts must also turn in a Sparring Equipment order form by October 1st. All sparring gear must be ordered through Kickside Martial Arts. \nBLACK BELT PACK\nAll Black Belt Candidates that want an embroidered heavy-weight uniform\, black gear and weapons must turn in a Black Belt Pack order form by September 15th. \nBOARD BREAKING: Brown Belts and above must supply their own boards for testing. It is recommended that you bring extra boards in case one breaks during set-up. Breaks must be approved prior to test and written in on student’s testing application. See board breaking page for more information. \nDue to the number of students who are between ranks the week after testing\, we will be following a revised schedule for the week of October 15th.  \nClick here for MONTGOMERY’S REVISED WEEK: October 15–19\, 2018 \nClick here for HILLSBOROUGH REVISED WEEK: October 15–19\, 2018
URL:https://www.kicksidema.com/event/primary-testing-2/
CATEGORIES:Hillsborough,Home,Montgomery
END:VEVENT
BEGIN:VEVENT
DTSTART;VALUE=DATE:20181011
DTEND;VALUE=DATE:20181012
DTSTAMP:20260419T092004
CREATED:20180913T215224Z
LAST-MODIFIED:20181001T185817Z
UID:5174-1539216000-1539302399@www.kicksidema.com
SUMMARY:Sr. Red Belt 2-Day Review
DESCRIPTION:5:45 pm in Montgoomery\n6:30 pm in Hillsborough \nStudents should attend the review with their “home” location. This review is primarily for candidates for black belt at the October 13th testing. A written belt information exam will be administered\, so students and parents should be prepared for a longer session. Black Belt essays are also due at this time. Visit the Sr. Red Belt info page for more information on testing requirements.
URL:https://www.kicksidema.com/event/sr-red-belt-2-day-review-2/
CATEGORIES:Hillsborough,Home,Montgomery
END:VEVENT
BEGIN:VEVENT
DTSTART;TZID=America/New_York:20180929T124500
DTEND;TZID=America/New_York:20180929T144500
DTSTAMP:20260419T092004
CREATED:20180906T233245Z
LAST-MODIFIED:20180927T214435Z
UID:5162-1538225100-1538232300@www.kicksidema.com
SUMMARY:Testing Prep Seminars - Hillsborough 9/29
DESCRIPTION:12:45 – 1:45 Green through Sr. Blue Belts\n1:45 – 2:45 Brown through Red Belts \nCounts as 2 class credits. Limited to 10 people per seminar. \nCost: $15 per seminar \nSr. Red may take both seminars for $25\, but only counts as 2 class credits total\nPremium members are FREE\, space permitting.
URL:https://www.kicksidema.com/event/testing-prep-seminars-hillsborough-929/
CATEGORIES:Hillsborough
END:VEVENT
BEGIN:VEVENT
DTSTART;TZID=America/New_York:20180929T113000
DTEND;TZID=America/New_York:20180929T150000
DTSTAMP:20260419T092004
CREATED:20180913T213329Z
LAST-MODIFIED:20180913T214823Z
UID:5167-1538220600-1538233200@www.kicksidema.com
SUMMARY:Testing Prep Seminars 9/29
DESCRIPTION:HILLSBOROUGH SEMINARS:\n12:45 – 1:45 Green through Sr. Blue Belts\n1:45 – 2:45 Brown through Red Belts \nMONTOGMERY SEMINARS\n11:30 – 12:30  White through Sr. Yellow\n12:30 – 1:30  Brown through Red\n1:30 – 3:00  Black Belts \nCounts as 2 class credits. Limited to 10 people per seminar. \nCost: $15 per seminar \nSr. Red may take both seminars for $25\, but only counts as 2 class credits total\nPremium members save $5
URL:https://www.kicksidema.com/event/testing-prep-seminars-929/
CATEGORIES:Home
END:VEVENT
BEGIN:VEVENT
DTSTART;TZID=America/New_York:20180929T113000
DTEND;TZID=America/New_York:20180929T150000
DTSTAMP:20260419T092004
CREATED:20180906T233809Z
LAST-MODIFIED:20180927T214317Z
UID:5163-1538220600-1538233200@www.kicksidema.com
SUMMARY:Testing Prep Seminars - Montgomery 9/29
DESCRIPTION:11:30 – 12:30  White through Sr. Yellow\n12:30 – 1:30  Brown through Red\n1:30 – 3:00  Black Belts \nCounts as 2 class credits. Limited to 10 people per seminar. \nCost: $15 per seminar \nSr. Red may take both seminars for $25\, but only counts as 2 class credits total\nPremium members are FREE\, space permitting.
URL:https://www.kicksidema.com/event/testing-prep-seminars-montgomery-929/
CATEGORIES:Montgomery
END:VEVENT
BEGIN:VEVENT
DTSTART;TZID=America/New_York:20180927T174500
DTEND;TZID=America/New_York:20180927T183000
DTSTAMP:20260419T092004
CREATED:20180913T214726Z
LAST-MODIFIED:20180913T221243Z
UID:5173-1538070300-1538073000@www.kicksidema.com
SUMMARY:Sr. Red Belt 2-Week Review -- at Montgomery
DESCRIPTION:This review is for ALL senior red belts who either need to earn their eligibility stripe (1st stripe) or candidates for black belt at the October 13th testing. \nAs a senior red belt\, your goal is to refine the beginner forms. This review will give you an assessment of your progress and realistic critique of your preparedness for the black belt test. \nThere is also a two day review (at your home school)\, in case a student is unable to achieve their stripes at this review. Candidates for the October test should plan to attend  \n\nall three reviews\n. 
URL:https://www.kicksidema.com/event/sr-red-belt-2-week-review-at-montgomery/
CATEGORIES:Home,Montgomery
END:VEVENT
BEGIN:VEVENT
DTSTART;VALUE=DATE:20180924
DTEND;VALUE=DATE:20180928
DTSTAMP:20260419T092004
CREATED:20180906T182309Z
LAST-MODIFIED:20180913T214833Z
UID:5151-1537747200-1538092799@www.kicksidema.com
SUMMARY:Breaking Week September 24–27\, 2018
DESCRIPTION:Green belts and up (all ranks Adult/Teen class) will be breaking boards in classes September 24–27\, 2018. Boards may be ordered through the school in bundles of 25 or purchased at a local lumber yard. Details on sizes\, grain direction and other breaking week tips are available on the board breaking page. \nBoard pre-order forms are available in the lobby and are due to the office by September 20th. Board orders will be made available on the first day of breaking week. All orders must be pre-paid or we can not be guarantee delivery. \nNote: Brown belts and above will need to bring boards for breaking at the February testing. Please factor this in when buying boards. \n**Do not put boards in your gear bag. Doing so will damage the bag.**
URL:https://www.kicksidema.com/event/breaking-week-924-927/
CATEGORIES:Hillsborough,Home,Montgomery
END:VEVENT
BEGIN:VEVENT
DTSTART;TZID=America/New_York:20180913T183000
DTEND;TZID=America/New_York:20180913T191500
DTSTAMP:20260419T092004
CREATED:20180913T214219Z
LAST-MODIFIED:20180913T214909Z
UID:5172-1536863400-1536866100@www.kicksidema.com
SUMMARY:Sr. Red One Month Review - 9/13 at Hillsborough
DESCRIPTION:All senior red belts should attend this forms review for the upcoming October 13th testing. This is where  \n\nALL senior red belts\n will earn their eligibility stripes. \nAs a senior red belt\, your goal is to refine the beginner forms. This review will give you an assessment of your progress and realistic critique of your preparedness for the black belt test. \nThere is also a two week (at Montgomery) and two day review (home school)\, in case a student is unable to achieve their stripes at this review. Candidates for the October test should plan to attend all three reviews. 
URL:https://www.kicksidema.com/event/sr-red-one-month-review-913-at-hillsborough/
CATEGORIES:Hillsborough,Home
END:VEVENT
BEGIN:VEVENT
DTSTART;TZID=America/New_York:20180907T173000
DTEND;TZID=America/New_York:20180907T200000
DTSTAMP:20260419T092004
CREATED:20180904T214736Z
LAST-MODIFIED:20180906T192520Z
UID:5126-1536341400-1536350400@www.kicksidema.com
SUMMARY:Parents' Night Out Is Back with Nerf Wars!
DESCRIPTION:Friday 9/7 \n5:30 – 8:00 pm \nWe are kicking off our return to Parents’ Night Out with a favorite: Nerf Wars — featuring target shooting\, tactical relays and battles. \nWhat is Parents’ Night Out? Every Friday night in Montgomery\, students can take class and stay to have fun with their friends and instructors while mom and dad take it easy! That’s 2 and a half hours off for a kid-free evening out! Each week has a different theme or focus\, such as ninja training\, nerf wars\, movie night. \nAsk an instructor for more information. Outside friends and family are welcome. \nCost is $10 (+$5 for pizza) \nPremium members are free (pay only for pizza) \nPremium members do both taekwondo and mixed martial arts or sport karate. Ask us how to join and get added benefits!
URL:https://www.kicksidema.com/event/parents-night-out-is-back/
CATEGORIES:Home,Montgomery
END:VEVENT
BEGIN:VEVENT
DTSTART;VALUE=DATE:20180905
DTEND;VALUE=DATE:20180906
DTSTAMP:20260419T092004
CREATED:20180818T155850Z
LAST-MODIFIED:20180818T155850Z
UID:5119-1536105600-1536191999@www.kicksidema.com
SUMMARY:Fall Schedule Starts -- Full uniforms required
DESCRIPTION:There will be new fall schedules in effect as of September 5th. Students are required to wear full uniforms again. \nClick here for Hillsborough Fall 2018 Schedule\nClick here for the Montgomery Fall 2018 Schedule
URL:https://www.kicksidema.com/event/fall-schedule-starts-full-uniforms-required/
CATEGORIES:Hillsborough,Home,Montgomery
END:VEVENT
BEGIN:VEVENT
DTSTART;TZID=America/New_York:20180904T160000
DTEND;TZID=America/New_York:20180904T190000
DTSTAMP:20260419T092004
CREATED:20180818T153820Z
LAST-MODIFIED:20180904T204929Z
UID:5117-1536076800-1536087600@www.kicksidema.com
SUMMARY:Back-to-School Bash
DESCRIPTION:4–7pm \nThere will be no classes on Tuesday\, September 4th\, due to our back-to-school event. We will be have door prizes\, custom school supplies\, free giveaways\, karaoke\, pizza and more! \nCome and kick off the school year at Kickside Martial Arts!
URL:https://www.kicksidema.com/event/back-to-school-bash-3/
CATEGORIES:Hillsborough,Home,Montgomery
END:VEVENT
BEGIN:VEVENT
DTSTART;VALUE=DATE:20180901
DTEND;VALUE=DATE:20180904
DTSTAMP:20260419T092004
CREATED:20180818T155710Z
LAST-MODIFIED:20180818T155710Z
UID:5118-1535760000-1536019199@www.kicksidema.com
SUMMARY:Labor Day Closing 2018
DESCRIPTION:There will be no classes Saturday\, September 1st and Monday\, September 3rd for the Labor Day holiday.
URL:https://www.kicksidema.com/event/labor-day-closing-2018/
CATEGORIES:Hillsborough,Home,Montgomery
END:VEVENT
BEGIN:VEVENT
DTSTART;TZID=America/New_York:20180721T123000
DTEND;TZID=America/New_York:20180721T144500
DTSTAMP:20260419T092004
CREATED:20180711T182634Z
LAST-MODIFIED:20180711T183200Z
UID:5087-1532176200-1532184300@www.kicksidema.com
SUMMARY:Secondary Testing at Montgomery -- July 21st
DESCRIPTION:Secondary testing is for all eligible students\, White through Sr. Brown\, who were not promoted at the June primary testing. \nTesting will take place at the Montgomery location (1340 Route 206\, Skillman\, NJ) \n\n\n\nRANK TESTING\nTIME\n\n\nWhite through Sr. Yellow\n12:30 pm\n\n\nGreen through Sr. Brown\n1:45 pm\n\n\n\nNote: times are for your current rank\, not the rank for which you are testing. \nGreen Belts and Up must bring complete sparring gear to the testing.\nBrown Belts and Up must bring boards to the testing. \nClick here for the testing application. Fill out and turn it to the office.\nAll Senior Yellow Belts need to order sparring gear. Click here for that order form.
URL:https://www.kicksidema.com/event/secondary-testing-at-montgomery-july-21st/
CATEGORIES:Home,Montgomery
END:VEVENT
BEGIN:VEVENT
DTSTART;TZID=America/New_York:20180721T090000
DTEND;TZID=America/New_York:20180721T100000
DTSTAMP:20260419T092004
CREATED:20180711T182955Z
LAST-MODIFIED:20180711T183023Z
UID:5088-1532163600-1532167200@www.kicksidema.com
SUMMARY:Collar Testing at Hillsborough -- June 21st
DESCRIPTION:Instructor collar testing will be held at Kickside of Hillsborough\n(378 South Branch Rd\, Building 1\, Suite 4\, Hillsborough\, NJ) at 9:00 am on July 21st.  \nStudents who are black belt or higher (brown belt and above age 16+) may test for a trainee instructor collar (RWB) on July 21st. This collar testing is intended for RWB collars. Please speak with Ms. Reed or Mr. Kanabay if you are intending to test for Blue\, Red or Black collar as this may require a separate\, specialized test. 
URL:https://www.kicksidema.com/event/collar-testing-at-hillsborough-june-21st/
CATEGORIES:Hillsborough,Home
END:VEVENT
BEGIN:VEVENT
DTSTART;VALUE=DATE:20180706
DTEND;VALUE=DATE:20180708
DTSTAMP:20260419T092004
CREATED:20180629T140951Z
LAST-MODIFIED:20180629T141007Z
UID:5076-1530835200-1531007999@www.kicksidema.com
SUMMARY:Hillsborough Closed July 6-7\, 2018
DESCRIPTION:Due to the holiday and number of instructors competing at the US Open ISKA World Martial Arts Championships in Florida\, we will be closed July 6 & 7. We will reopen on Monday 7/9. Don’t miss the chance to watch your instructors compete on stage on 7/7 on ESPN2! \n(Montgomery will be closed 7/4-7/7/2018)
URL:https://www.kicksidema.com/event/hillsborough-closed-july-6-7-2018/
CATEGORIES:Hillsborough,Home
END:VEVENT
BEGIN:VEVENT
DTSTART;VALUE=DATE:20180705
DTEND;VALUE=DATE:20180706
DTSTAMP:20260419T092004
CREATED:20180629T140719Z
LAST-MODIFIED:20180629T140732Z
UID:5075-1530748800-1530835199@www.kicksidema.com
SUMMARY:July 5th - Hillsborough Summer Schedule Begins
DESCRIPTION:Hillsborough will be open on July 5th\, debuting a new summer schedule. Click here to view Hillsborough’s Summer Schedule
URL:https://www.kicksidema.com/event/july-5th-new-summer-schedule-begins/
CATEGORIES:Hillsborough,Home
END:VEVENT
BEGIN:VEVENT
DTSTART;VALUE=DATE:20180704
DTEND;VALUE=DATE:20180708
DTSTAMP:20260419T092004
CREATED:20180615T134143Z
LAST-MODIFIED:20180629T151830Z
UID:5067-1530662400-1531007999@www.kicksidema.com
SUMMARY:Closed July 4–7\, 2018
DESCRIPTION:Due to the number of instructors away for the US Open/ISKA World Martial Arts Championships in Florida\, and the Independence Day holiday\, we will be closed July 4–7\, 2018.  \n**UPDATE** Hillsborough will be open July 5th. All students should check out the Hillsborough Summer 2018 Schedule and attend class in Hillsborough on this day.
URL:https://www.kicksidema.com/event/closed-july-4-7-2018/
CATEGORIES:Home,Montgomery
END:VEVENT
BEGIN:VEVENT
DTSTART;VALUE=DATE:20180704
DTEND;VALUE=DATE:20180705
DTSTAMP:20260419T092004
CREATED:20180629T140547Z
LAST-MODIFIED:20180629T140547Z
UID:5074-1530662400-1530748799@www.kicksidema.com
SUMMARY:Closed July 4th
DESCRIPTION:We will be closed for the holiday.
URL:https://www.kicksidema.com/event/closed-july-4th/
CATEGORIES:Hillsborough
END:VEVENT
BEGIN:VEVENT
DTSTART;TZID=America/New_York:20180622T173000
DTEND;TZID=America/New_York:20180622T193000
DTSTAMP:20260419T092004
CREATED:20180608T185618Z
LAST-MODIFIED:20180608T185618Z
UID:5055-1529688600-1529695800@www.kicksidema.com
SUMMARY:Rank Ceremonies at Hillsborough: June 22\, 2018
DESCRIPTION:There will be no classes on Friday\, June 22nd due to rank promotion ceremonies for the students who just tested. This is a special family event\, so we ask that you dress to impress (no uniforms\, no tattered clothing). \nRank Ceremony will be held at Kickside of Hillsborough (378 South Branch Rd\, Hillsborough\, NJ 08844)\n5:30 pm Rank Ceremony for White through Senior Green Belts\n6:15 pm Rank Ceremony for Blue through Red Belts\n7:00 pm Rank Ceremony for Sr. Red\, Black\, and All Ranks Adults \nRank ceremony times are for your current rank\, not the new rank.
URL:https://www.kicksidema.com/event/rank-ceremonies-at-hillsborough-june-22-2018/
CATEGORIES:Hillsborough,Home
END:VEVENT
BEGIN:VEVENT
DTSTART;TZID=America/New_York:20180619T150000
DTEND;TZID=America/New_York:20180619T210000
DTSTAMP:20260419T092004
CREATED:20180605T222812Z
LAST-MODIFIED:20180605T222918Z
UID:5047-1529420400-1529442000@www.kicksidema.com
SUMMARY:Picture Day -- Hillsborough
DESCRIPTION:We are excited to announce that we will be inviting Martial Studios to our facility!\nThis is a unique opportunity to have your photograph taken by an experienced martial arts photographer.\nWe only have a limited number of photo sessions available. \nReserve your time in Montgomery on Monday\, June 18: https://www.martialstudios.com/book/kickside-montgomery\nReserve your time in Hillsborough on Tuesday\, June 19: \nhttps://www.martialstudios.com/book/kickside-hillsborough
URL:https://www.kicksidema.com/event/picture-day-hillsborough/
CATEGORIES:Hillsborough,Home
END:VEVENT
BEGIN:VEVENT
DTSTART;TZID=America/New_York:20180618T150000
DTEND;TZID=America/New_York:20180618T210000
DTSTAMP:20260419T092004
CREATED:20180605T222841Z
LAST-MODIFIED:20180605T222852Z
UID:5048-1529334000-1529355600@www.kicksidema.com
SUMMARY:Picture Day -- Montgomery
DESCRIPTION:We are excited to announce that we will be inviting Martial Studios to our facility!\nThis is a unique opportunity to have your photograph taken by an experienced martial arts photographer.\nWe only have a limited number of photo sessions available. \nReserve your time in Montgomery on Monday\, June 18: https://www.martialstudios.com/book/kickside-montgomery\nReserve your time in Hillsborough on Tuesday\, June 19: \nhttps://www.martialstudios.com/book/kickside-hillsborough
URL:https://www.kicksidema.com/event/picture-day-montgomery/
CATEGORIES:Home,Montgomery
END:VEVENT
BEGIN:VEVENT
DTSTART;VALUE=DATE:20180618
DTEND;VALUE=DATE:20180624
DTSTAMP:20260419T092004
CREATED:20180608T185336Z
LAST-MODIFIED:20180608T185336Z
UID:5054-1529280000-1529798399@www.kicksidema.com
SUMMARY:Revised Week: June 18–23\, 2018
DESCRIPTION:Due to the number of students between ranks\, we will be following a revised schedule of classes for the week following primary testing.  \nMonday: No Classes at Montgomery\, Make-up Testing at Hillsborough\nTuesday: Make-up Testing at Montgomery\, No Classes at Hillsborough\nFriday: No Classes\, Rank Ceremonies at Hillsborough\nSaturday: Regular Schedule at Montgomery\, Revised Day at Hillsborough \nClick here for Montgomery’s Revised Schedule June 18-22\, 2018\nClick here for Hillsborough’s Revised Schedule\, June 18–23\, 2018
URL:https://www.kicksidema.com/event/revised-week-june-18-23-2018/
CATEGORIES:Hillsborough,Home,Montgomery
END:VEVENT
BEGIN:VEVENT
DTSTART;VALUE=DATE:20180616
DTEND;VALUE=DATE:20180617
DTSTAMP:20260419T092004
CREATED:20180419T210205Z
LAST-MODIFIED:20180525T214431Z
UID:4924-1529107200-1529193599@www.kicksidema.com
SUMMARY:Primary Testing -- June 16th at Warren Middle School
DESCRIPTION:Primary testing for all NJMAA schools will be held on Saturday\, June 16th at Warren Middle School. There are no regular classes on this day. \nNote: Testing and rank ceremony times are for your CURRENT RANK\, not the rank you are testing to become! Students should arrive 15 min early for their testing.  \n\n\n\nCurrent Belt Rank\nTesting Start Time\n\n\nWhite – Sr. Yellow Belt Juniors\n8:45 am\n\n\nWhite – Sr. Yellow Belt Teens/Adults\n9:45 am\n\n\nGreen & Sr. Green Belt Juniors\n9:45 am\n\n\nGreen – Red Belt Teens/Adults\n10:30 am\n\n\nBlue & Sr. Blue Belt Juniors\n10:30 am\n\n\nBrown – Red Belt Juniors\n11:15 am\n\n\nBlack Belt Candidates\n11:45 am\n\n\nAll Black Belts\n12:15 pm\n\n\n\nTesting Procedures: \nClick here for the colored belt testing application (for White – Sr. Red Belts) \nClick here for the black belt testing application (for all Black Belt ranks) \nA list of eligible students for this testing will be posted in the lobby. Please find your/your child’s name on the list and fill out a testing application. Brown belts and above need to list their board breaks at the bottom (and get those breaks approved by an instructor when turning in the application). If you need a different belt size than the one listed\, please let us know. \nStudents are required to know their belt information\, achieve necessary stripes\, and attend the required number of classes for their level. Please visit the belt info page for a list of all this information. \nSPARRING EQUIPMENT ORDER FORM\nAll Sr. Yellow Belts must also turn in a Sparring Equipment order form by May 1st. All sparring gear must be ordered through Kickside Martial Arts. \nBLACK BELT PACK\nAll Black Belt Candidates that want an embroidered heavy-weight uniform\, black gear and weapons must turn in a Black Belt Pack order form by May 1st. \nBOARD BREAKING: Brown Belts and above must supply their own boards for testing. It is recommended that you bring extra boards in case one breaks during set-up. Breaks must be approved prior to test and written in on student’s testing application. See board breaking page for more information. \nDue to the number of students who are between ranks the week after testing\, we will be following a revised schedule for the week of June 18-22. \nRevised schedules to come
URL:https://www.kicksidema.com/event/primary-testing-june-16th-at-warren-middle-school/
CATEGORIES:Hillsborough,Home,Montgomery
END:VEVENT
BEGIN:VEVENT
DTSTART;TZID=America/New_York:20180615T173000
DTEND;TZID=America/New_York:20180615T200000
DTSTAMP:20260419T092004
CREATED:20180605T222320Z
LAST-MODIFIED:20180605T222433Z
UID:5046-1529083800-1529092800@www.kicksidema.com
SUMMARY:Testing Prep Seminar: June 15 at Montgomery
DESCRIPTION:We will be holding Testing Prep Seminars on Friday\, June 8th & 15th in order to help students polish up their techniques\, get extra assistance\, and gain some extra class credits. \nCost is $20 per seminar (+$5 for pizza). Free for premium members (TKD + MMA) \nCounts as 2 class credits\nLimited enrollment. First come\, first served. \nSee an instructor to register. \n\n\n\nSCHEDULE:\n \n\n\n5:30 – 6:30 pm\nForms Review\n\n\n6:30 – 7:00 pm\nPizza Break\n\n\n7:00 – 8:00 pm\nOne Steps and Sparring Review
URL:https://www.kicksidema.com/event/testing-prep-seminar-june-15-at-montgomery/
CATEGORIES:Home,Montgomery
END:VEVENT
BEGIN:VEVENT
DTSTART;TZID=America/New_York:20180614T173000
DTEND;TZID=America/New_York:20180614T190000
DTSTAMP:20260419T092004
CREATED:20180430T102222Z
LAST-MODIFIED:20180430T104217Z
UID:4945-1528997400-1529002800@www.kicksidema.com
SUMMARY:Sr. Red 2-Day Review—June 14
DESCRIPTION:All candidates must attend this review. The written belt knowledge test will be administered\, so plan for a longer than usual stay. Black belt essays are also due on this day. \n 
URL:https://www.kicksidema.com/event/sr-red-2-day-review-june-14/
CATEGORIES:Home,Montgomery
END:VEVENT
BEGIN:VEVENT
DTSTART;TZID=America/New_York:20180609T124500
DTEND;TZID=America/New_York:20180609T124500
DTSTAMP:20260419T092004
CREATED:20180608T182135Z
LAST-MODIFIED:20180608T183446Z
UID:5050-1528548300-1528548300@www.kicksidema.com
SUMMARY:Testing Prep Seminars at Hillsborough -- June 9
DESCRIPTION:We will be holding Testing Prep Seminars on Saturday\, June 9th in order to help students polish up their techniques\, get extra assistance\, and gain some extra class credits. \nCost is $15/seminar. Free for premium members (MMA + TKD)\nYour belt-specific seminar counts as 2 class credits \nLimited enrollment. First come\, first served. \nSee an instructor to register. \n12:45 – 1:30 pm Green – Sr. Red Belts\n1:30 – 2:15 pm Black Belts
URL:https://www.kicksidema.com/event/testing-prep-seminars-at-hillsborough-june-9/
CATEGORIES:Hillsborough,Home
END:VEVENT
END:VCALENDAR